BEGIN:VCALENDAR
VERSION:2.0
PRODID:-//La Mairie de - ECPv6.15.3//NONSGML v1.0//EN
CALSCALE:GREGORIAN
METHOD:PUBLISH
X-ORIGINAL-URL:https://stehelenesurisere.fr
X-WR-CALDESC:Évènements pour La Mairie de
REFRESH-INTERVAL;VALUE=DURATION:PT1H
X-Robots-Tag:noindex
X-PUBLISHED-TTL:PT1H
BEGIN:VTIMEZONE
TZID:Europe/Helsinki
BEGIN:DAYLIGHT
TZOFFSETFROM:+0200
TZOFFSETTO:+0300
TZNAME:EEST
DTSTART:20240331T010000
END:DAYLIGHT
BEGIN:STANDARD
TZOFFSETFROM:+0300
TZOFFSETTO:+0200
TZNAME:EET
DTSTART:20241027T010000
END:STANDARD
END:VTIMEZONE
BEGIN:VEVENT
DTSTART;TZID=Europe/Helsinki:20241106T140000
DTEND;TZID=Europe/Helsinki:20241106T180000
DTSTAMP:20260424T021145
CREATED:20240917T123229Z
LAST-MODIFIED:20240917T123229Z
UID:5861-1730901600-1730916000@stehelenesurisere.fr
SUMMARY:belote ainés ruraux
DESCRIPTION:salle des associations
URL:https://stehelenesurisere.fr/agenda/belote-aines-ruraux-51/
CATEGORIES:salle des associations
END:VEVENT
BEGIN:VEVENT
DTSTART;TZID=Europe/Helsinki:20241107T140000
DTEND;TZID=Europe/Helsinki:20241107T170000
DTSTAMP:20260424T021145
CREATED:20240924T091621Z
LAST-MODIFIED:20240924T091621Z
UID:5903-1730988000-1730998800@stehelenesurisere.fr
SUMMARY:réunion PM récréatif
DESCRIPTION:salle des associations
URL:https://stehelenesurisere.fr/agenda/reunion-pm-recreatif-31/
CATEGORIES:salle des associations
END:VEVENT
BEGIN:VEVENT
DTSTART;TZID=Europe/Helsinki:20241113T140000
DTEND;TZID=Europe/Helsinki:20241113T180000
DTSTAMP:20260424T021145
CREATED:20240917T123306Z
LAST-MODIFIED:20240917T123306Z
UID:5863-1731506400-1731520800@stehelenesurisere.fr
SUMMARY:belote ainés ruraux
DESCRIPTION:salle des associations
URL:https://stehelenesurisere.fr/agenda/belote-aines-ruraux-52/
CATEGORIES:salle des associations
END:VEVENT
BEGIN:VEVENT
DTSTART;TZID=Europe/Helsinki:20241114T140000
DTEND;TZID=Europe/Helsinki:20241114T170000
DTSTAMP:20260424T021145
CREATED:20240924T091715Z
LAST-MODIFIED:20240924T091715Z
UID:5905-1731592800-1731603600@stehelenesurisere.fr
SUMMARY:réunion PM récréatif
DESCRIPTION:salle des associations
URL:https://stehelenesurisere.fr/agenda/reunion-pm-recreatif-32/
CATEGORIES:salle des associations
END:VEVENT
BEGIN:VEVENT
DTSTART;TZID=Europe/Helsinki:20241120T140000
DTEND;TZID=Europe/Helsinki:20241120T180000
DTSTAMP:20260424T021145
CREATED:20240917T123357Z
LAST-MODIFIED:20240917T123357Z
UID:5865-1732111200-1732125600@stehelenesurisere.fr
SUMMARY:belote ainés ruraux
DESCRIPTION:salle des associations
URL:https://stehelenesurisere.fr/agenda/belote-aines-ruraux-53/
CATEGORIES:salle des associations
END:VEVENT
BEGIN:VEVENT
DTSTART;TZID=Europe/Helsinki:20241127T140000
DTEND;TZID=Europe/Helsinki:20241127T180000
DTSTAMP:20260424T021145
CREATED:20240917T123436Z
LAST-MODIFIED:20240917T123436Z
UID:5867-1732716000-1732730400@stehelenesurisere.fr
SUMMARY:belote ainés ruraux
DESCRIPTION:salle des associations
URL:https://stehelenesurisere.fr/agenda/belote-aines-ruraux-54/
CATEGORIES:salle des associations
END:VEVENT
END:VCALENDAR