BEGIN:VCALENDAR
VERSION:2.0
PRODID:-//La Mairie de - ECPv6.15.3//NONSGML v1.0//EN
CALSCALE:GREGORIAN
METHOD:PUBLISH
X-ORIGINAL-URL:https://stehelenesurisere.fr
X-WR-CALDESC:Évènements pour La Mairie de
REFRESH-INTERVAL;VALUE=DURATION:PT1H
X-Robots-Tag:noindex
X-PUBLISHED-TTL:PT1H
BEGIN:VTIMEZONE
TZID:Europe/Helsinki
BEGIN:DAYLIGHT
TZOFFSETFROM:+0200
TZOFFSETTO:+0300
TZNAME:EEST
DTSTART:20240331T010000
END:DAYLIGHT
BEGIN:STANDARD
TZOFFSETFROM:+0300
TZOFFSETTO:+0200
TZNAME:EET
DTSTART:20241027T010000
END:STANDARD
END:VTIMEZONE
BEGIN:VEVENT
DTSTART;TZID=Europe/Helsinki:20240904T140000
DTEND;TZID=Europe/Helsinki:20240904T180000
DTSTAMP:20260423T220628
CREATED:20240917T122635Z
LAST-MODIFIED:20240917T122635Z
UID:5841-1725458400-1725472800@stehelenesurisere.fr
SUMMARY:belote ainés ruraux
DESCRIPTION:salle des associations
URL:https://stehelenesurisere.fr/agenda/belote-aines-ruraux-42/
CATEGORIES:salle des associations
END:VEVENT
BEGIN:VEVENT
DTSTART;TZID=Europe/Helsinki:20240911T140000
DTEND;TZID=Europe/Helsinki:20240911T180000
DTSTAMP:20260423T220628
CREATED:20240917T122716Z
LAST-MODIFIED:20240917T122722Z
UID:5843-1726063200-1726077600@stehelenesurisere.fr
SUMMARY:beloté ainés ruraux
DESCRIPTION:salle des associations
URL:https://stehelenesurisere.fr/agenda/belote-aines-ruraux-43/
CATEGORIES:salle des associations
END:VEVENT
BEGIN:VEVENT
DTSTART;TZID=Europe/Helsinki:20240912T140000
DTEND;TZID=Europe/Helsinki:20240912T170000
DTSTAMP:20260423T220628
CREATED:20240924T091206Z
LAST-MODIFIED:20240924T091215Z
UID:5890-1726149600-1726160400@stehelenesurisere.fr
SUMMARY:réunion PM récréatif
DESCRIPTION:salle des associations
URL:https://stehelenesurisere.fr/agenda/reunion-pm-recreatif-25/
CATEGORIES:salle des associations
END:VEVENT
BEGIN:VEVENT
DTSTART;TZID=Europe/Helsinki:20240918T140000
DTEND;TZID=Europe/Helsinki:20240918T180000
DTSTAMP:20260423T220628
CREATED:20240917T122752Z
LAST-MODIFIED:20240917T122752Z
UID:5845-1726668000-1726682400@stehelenesurisere.fr
SUMMARY:belote ainés ruraux
DESCRIPTION:salle des associations
URL:https://stehelenesurisere.fr/agenda/belote-aines-ruraux-44/
CATEGORIES:salle des associations
END:VEVENT
BEGIN:VEVENT
DTSTART;TZID=Europe/Helsinki:20240919T140000
DTEND;TZID=Europe/Helsinki:20240919T170000
DTSTAMP:20260423T220628
CREATED:20240924T091342Z
LAST-MODIFIED:20240924T091342Z
UID:5895-1726754400-1726765200@stehelenesurisere.fr
SUMMARY:réunion PM récréatif
DESCRIPTION:salle des associations
URL:https://stehelenesurisere.fr/agenda/reunion-pm-recreatif-27/
CATEGORIES:salle des associations
END:VEVENT
BEGIN:VEVENT
DTSTART;TZID=Europe/Helsinki:20240924T180000
DTEND;TZID=Europe/Helsinki:20240924T200000
DTSTAMP:20260423T220628
CREATED:20240924T092106Z
LAST-MODIFIED:20240924T092106Z
UID:5913-1727200800-1727208000@stehelenesurisere.fr
SUMMARY:AG de l'APE
DESCRIPTION:salle des associations
URL:https://stehelenesurisere.fr/agenda/ag-de-lape/
CATEGORIES:salle des associations
END:VEVENT
BEGIN:VEVENT
DTSTART;TZID=Europe/Helsinki:20240925T140000
DTEND;TZID=Europe/Helsinki:20240925T180000
DTSTAMP:20260423T220628
CREATED:20240917T122829Z
LAST-MODIFIED:20240917T122829Z
UID:5847-1727272800-1727287200@stehelenesurisere.fr
SUMMARY:belote ainés ruraux
DESCRIPTION:salle des associations
URL:https://stehelenesurisere.fr/agenda/belote-aines-ruraux-45/
CATEGORIES:salle des associations
END:VEVENT
BEGIN:VEVENT
DTSTART;TZID=Europe/Helsinki:20240926T140000
DTEND;TZID=Europe/Helsinki:20240926T170000
DTSTAMP:20260423T220628
CREATED:20240924T091258Z
LAST-MODIFIED:20240924T091302Z
UID:5892-1727359200-1727370000@stehelenesurisere.fr
SUMMARY:réunion PM récréatif
DESCRIPTION:salle des associations
URL:https://stehelenesurisere.fr/agenda/reunion-pm-recreatif-26/
CATEGORIES:salle des associations
END:VEVENT
BEGIN:VEVENT
DTSTART;TZID=Europe/Helsinki:20240927T190000
DTEND;TZID=Europe/Helsinki:20240927T210000
DTSTAMP:20260423T220628
CREATED:20240924T092150Z
LAST-MODIFIED:20240924T092150Z
UID:5915-1727463600-1727470800@stehelenesurisere.fr
SUMMARY:AG de l'ACCA
DESCRIPTION:salle des associations
URL:https://stehelenesurisere.fr/agenda/ag-de-lacca/
CATEGORIES:salle des associations
END:VEVENT
END:VCALENDAR