BEGIN:VCALENDAR
VERSION:2.0
PRODID:-//La Mairie de - ECPv6.15.3//NONSGML v1.0//EN
CALSCALE:GREGORIAN
METHOD:PUBLISH
X-ORIGINAL-URL:https://stehelenesurisere.fr
X-WR-CALDESC:Évènements pour La Mairie de
REFRESH-INTERVAL;VALUE=DURATION:PT1H
X-Robots-Tag:noindex
X-PUBLISHED-TTL:PT1H
BEGIN:VTIMEZONE
TZID:Europe/Helsinki
BEGIN:DAYLIGHT
TZOFFSETFROM:+0200
TZOFFSETTO:+0300
TZNAME:EEST
DTSTART:20240331T010000
END:DAYLIGHT
BEGIN:STANDARD
TZOFFSETFROM:+0300
TZOFFSETTO:+0200
TZNAME:EET
DTSTART:20241027T010000
END:STANDARD
END:VTIMEZONE
BEGIN:VEVENT
DTSTART;TZID=Europe/Helsinki:20240110T140000
DTEND;TZID=Europe/Helsinki:20240110T180000
DTSTAMP:20260421T082000
CREATED:20240219T104704Z
LAST-MODIFIED:20240219T104704Z
UID:5592-1704895200-1704909600@stehelenesurisere.fr
SUMMARY:belote Ainés ruraux
DESCRIPTION:salle des associations
URL:https://stehelenesurisere.fr/agenda/belote-aines-ruraux-31/
CATEGORIES:salle des associations
END:VEVENT
BEGIN:VEVENT
DTSTART;TZID=Europe/Helsinki:20240117T140000
DTEND;TZID=Europe/Helsinki:20240117T180000
DTSTAMP:20260421T082000
CREATED:20240219T104738Z
LAST-MODIFIED:20240219T104738Z
UID:5594-1705500000-1705514400@stehelenesurisere.fr
SUMMARY:belote ainés ruraux
DESCRIPTION:salle des associations
URL:https://stehelenesurisere.fr/agenda/belote-aines-ruraux-32/
CATEGORIES:salle des associations
END:VEVENT
BEGIN:VEVENT
DTSTART;TZID=Europe/Helsinki:20240124T140000
DTEND;TZID=Europe/Helsinki:20240124T180000
DTSTAMP:20260421T082000
CREATED:20240219T104813Z
LAST-MODIFIED:20240219T104813Z
UID:5596-1706104800-1706119200@stehelenesurisere.fr
SUMMARY:belote ainés ruraux
DESCRIPTION:salle des associations
URL:https://stehelenesurisere.fr/agenda/belote-aines-ruraux-33/
CATEGORIES:salle des associations
END:VEVENT
BEGIN:VEVENT
DTSTART;TZID=Europe/Helsinki:20240125T140000
DTEND;TZID=Europe/Helsinki:20240125T170000
DTSTAMP:20260421T082000
CREATED:20240219T105432Z
LAST-MODIFIED:20240219T105436Z
UID:5614-1706191200-1706202000@stehelenesurisere.fr
SUMMARY:réunion PM récréatif
DESCRIPTION:salle des associations
URL:https://stehelenesurisere.fr/agenda/reunion-pm-recreatif-16/
CATEGORIES:salle des associations
END:VEVENT
BEGIN:VEVENT
DTSTART;TZID=Europe/Helsinki:20240131T140000
DTEND;TZID=Europe/Helsinki:20240131T180000
DTSTAMP:20260421T082000
CREATED:20240219T104847Z
LAST-MODIFIED:20240219T104847Z
UID:5598-1706709600-1706724000@stehelenesurisere.fr
SUMMARY:belote ainés ruraux
DESCRIPTION:salle des associations
URL:https://stehelenesurisere.fr/agenda/belote-aines-ruraux-34/
CATEGORIES:salle des associations
END:VEVENT
END:VCALENDAR