BEGIN:VCALENDAR
VERSION:2.0
PRODID:-//La Mairie de - ECPv6.15.3//NONSGML v1.0//EN
CALSCALE:GREGORIAN
METHOD:PUBLISH
X-ORIGINAL-URL:https://stehelenesurisere.fr
X-WR-CALDESC:Évènements pour La Mairie de
REFRESH-INTERVAL;VALUE=DURATION:PT1H
X-Robots-Tag:noindex
X-PUBLISHED-TTL:PT1H
BEGIN:VTIMEZONE
TZID:Europe/Helsinki
BEGIN:DAYLIGHT
TZOFFSETFROM:+0200
TZOFFSETTO:+0300
TZNAME:EEST
DTSTART:20230326T010000
END:DAYLIGHT
BEGIN:STANDARD
TZOFFSETFROM:+0300
TZOFFSETTO:+0200
TZNAME:EET
DTSTART:20231029T010000
END:STANDARD
END:VTIMEZONE
BEGIN:VEVENT
DTSTART;TZID=Europe/Helsinki:20231206T140000
DTEND;TZID=Europe/Helsinki:20231206T170000
DTSTAMP:20260421T061858
CREATED:20231011T075837Z
LAST-MODIFIED:20231011T075837Z
UID:5334-1701871200-1701882000@stehelenesurisere.fr
SUMMARY:belote ainés ruraux
DESCRIPTION:salle des associations
URL:https://stehelenesurisere.fr/agenda/belote-aines-ruraux-28/
CATEGORIES:salle des associations
END:VEVENT
BEGIN:VEVENT
DTSTART;TZID=Europe/Helsinki:20231207T140000
DTEND;TZID=Europe/Helsinki:20231207T170000
DTSTAMP:20260421T061858
CREATED:20231011T075910Z
LAST-MODIFIED:20231011T075910Z
UID:5336-1701957600-1701968400@stehelenesurisere.fr
SUMMARY:réunion PM récréatif
DESCRIPTION:salle des associations
URL:https://stehelenesurisere.fr/agenda/reunion-pm-recreatif-13/
CATEGORIES:salle des associations
END:VEVENT
BEGIN:VEVENT
DTSTART;TZID=Europe/Helsinki:20231214T140000
DTEND;TZID=Europe/Helsinki:20231214T180000
DTSTAMP:20260421T061858
CREATED:20231011T080037Z
LAST-MODIFIED:20231011T080037Z
UID:5340-1702562400-1702576800@stehelenesurisere.fr
SUMMARY:réunion PM récréatif
DESCRIPTION:salle des associations
URL:https://stehelenesurisere.fr/agenda/reunion-pm-recreatif-14/
CATEGORIES:salle des associations
END:VEVENT
BEGIN:VEVENT
DTSTART;TZID=Europe/Helsinki:20231220T140000
DTEND;TZID=Europe/Helsinki:20231220T180000
DTSTAMP:20260421T061858
CREATED:20231011T080000Z
LAST-MODIFIED:20231011T080108Z
UID:5338-1703080800-1703095200@stehelenesurisere.fr
SUMMARY:belote ainés ruraux
DESCRIPTION:salle des associations
URL:https://stehelenesurisere.fr/agenda/belote-aines-ruraux-29/
CATEGORIES:salle des associations
END:VEVENT
BEGIN:VEVENT
DTSTART;TZID=Europe/Helsinki:20231221T140000
DTEND;TZID=Europe/Helsinki:20231221T170000
DTSTAMP:20260421T061858
CREATED:20231011T080153Z
LAST-MODIFIED:20231011T080153Z
UID:5342-1703167200-1703178000@stehelenesurisere.fr
SUMMARY:réunion PM récréatif
DESCRIPTION:salle des associations
URL:https://stehelenesurisere.fr/agenda/reunion-pm-recreatif-15/
CATEGORIES:salle des associations
END:VEVENT
BEGIN:VEVENT
DTSTART;TZID=Europe/Helsinki:20231227T140000
DTEND;TZID=Europe/Helsinki:20231227T180000
DTSTAMP:20260421T061858
CREATED:20231011T080242Z
LAST-MODIFIED:20231011T080242Z
UID:5344-1703685600-1703700000@stehelenesurisere.fr
SUMMARY:belote ainés ruraux
DESCRIPTION:salle des associations
URL:https://stehelenesurisere.fr/agenda/belote-aines-ruraux-30/
CATEGORIES:salle des associations
END:VEVENT
END:VCALENDAR