BEGIN:VCALENDAR
VERSION:2.0
PRODID:-//La Mairie de - ECPv6.15.3//NONSGML v1.0//EN
CALSCALE:GREGORIAN
METHOD:PUBLISH
X-ORIGINAL-URL:https://stehelenesurisere.fr
X-WR-CALDESC:Évènements pour La Mairie de
REFRESH-INTERVAL;VALUE=DURATION:PT1H
X-Robots-Tag:noindex
X-PUBLISHED-TTL:PT1H
BEGIN:VTIMEZONE
TZID:Europe/Helsinki
BEGIN:DAYLIGHT
TZOFFSETFROM:+0200
TZOFFSETTO:+0300
TZNAME:EEST
DTSTART:20210328T010000
END:DAYLIGHT
BEGIN:STANDARD
TZOFFSETFROM:+0300
TZOFFSETTO:+0200
TZNAME:EET
DTSTART:20211031T010000
END:STANDARD
END:VTIMEZONE
BEGIN:VEVENT
DTSTART;VALUE=DATE:20211024
DTEND;VALUE=DATE:20211025
DTSTAMP:20260421T230250
CREATED:20211007T133055Z
LAST-MODIFIED:20211007T133055Z
UID:4280-1635033600-1635119999@stehelenesurisere.fr
SUMMARY:Ainés ruraux
DESCRIPTION:Thé dansant\nLes 2 salles
URL:https://stehelenesurisere.fr/agenda/aines-ruraux-11/
END:VEVENT
END:VCALENDAR