BEGIN:VCALENDAR
VERSION:2.0
PRODID:-//La Mairie de - ECPv6.15.3//NONSGML v1.0//EN
CALSCALE:GREGORIAN
METHOD:PUBLISH
X-WR-CALNAME:La Mairie de
X-ORIGINAL-URL:https://stehelenesurisere.fr
X-WR-CALDESC:Évènements pour La Mairie de
REFRESH-INTERVAL;VALUE=DURATION:PT1H
X-Robots-Tag:noindex
X-PUBLISHED-TTL:PT1H
BEGIN:VTIMEZONE
TZID:Europe/Helsinki
BEGIN:DAYLIGHT
TZOFFSETFROM:+0200
TZOFFSETTO:+0300
TZNAME:EEST
DTSTART:20200329T010000
END:DAYLIGHT
BEGIN:STANDARD
TZOFFSETFROM:+0300
TZOFFSETTO:+0200
TZNAME:EET
DTSTART:20201025T010000
END:STANDARD
END:VTIMEZONE
BEGIN:VEVENT
DTSTART;VALUE=DATE:20200129
DTEND;VALUE=DATE:20200130
DTSTAMP:20260425T144626
CREATED:20200129T084814Z
LAST-MODIFIED:20200129T085148Z
UID:3698-1580256000-1580342399@stehelenesurisere.fr
SUMMARY:Loto ASHCS le dimanche 16 février 14H
DESCRIPTION:A la salle polyvalente de Sainte Hélène sur Isère\nOuverture des portes à partir de 12h30\nRestauration et buvette sur place\n3000 euros de lots à remporter
URL:https://stehelenesurisere.fr/agenda/loto-ashcs/
ATTACH;FMTTYPE=image/jpeg:https://stehelenesurisere.fr/wp-content/uploads/2020/01/Sc284e_mair20012909530_0001-e1580287664740.jpg
END:VEVENT
END:VCALENDAR