BEGIN:VCALENDAR
VERSION:2.0
PRODID:-//La Mairie de - ECPv6.15.3//NONSGML v1.0//EN
CALSCALE:GREGORIAN
METHOD:PUBLISH
X-WR-CALNAME:La Mairie de
X-ORIGINAL-URL:https://stehelenesurisere.fr
X-WR-CALDESC:Évènements pour La Mairie de
REFRESH-INTERVAL;VALUE=DURATION:PT1H
X-Robots-Tag:noindex
X-PUBLISHED-TTL:PT1H
BEGIN:VTIMEZONE
TZID:UTC
BEGIN:STANDARD
TZOFFSETFROM:+0000
TZOFFSETTO:+0000
TZNAME:UTC
DTSTART:20190101T000000
END:STANDARD
END:VTIMEZONE
BEGIN:VTIMEZONE
TZID:Europe/Helsinki
BEGIN:DAYLIGHT
TZOFFSETFROM:+0200
TZOFFSETTO:+0300
TZNAME:EEST
DTSTART:20190331T010000
END:DAYLIGHT
BEGIN:STANDARD
TZOFFSETFROM:+0300
TZOFFSETTO:+0200
TZNAME:EET
DTSTART:20191027T010000
END:STANDARD
END:VTIMEZONE
BEGIN:VEVENT
DTSTART;TZID=UTC:20191201T120000
DTEND;TZID=UTC:20191201T170000
DTSTAMP:20260425T162000
CREATED:20191126T121611Z
LAST-MODIFIED:20191126T121611Z
UID:3633-1575201600-1575219600@stehelenesurisere.fr
SUMMARY:REPAS des ANCIENS de la commune
DESCRIPTION:Au restaurant Le Sainte Hélène
URL:https://stehelenesurisere.fr/agenda/repas-des-anciens-de-la-commune/
END:VEVENT
BEGIN:VEVENT
DTSTART;TZID=UTC:20191207T180000
DTEND;TZID=UTC:20191207T210000
DTSTAMP:20260425T162000
CREATED:20191126T121754Z
LAST-MODIFIED:20191126T122255Z
UID:3634-1575741600-1575752400@stehelenesurisere.fr
SUMMARY:Fête des Lumières
DESCRIPTION:Fête du village à 18h avec le père Noel\, les promenades en calèche\, les jeux de lumière laser\, les stands des associations\, vin chaud et chocolat chaud
URL:https://stehelenesurisere.fr/agenda/fete-des-lumieres-4/
ATTACH;FMTTYPE=image/jpeg:https://stehelenesurisere.fr/wp-content/uploads/2019/11/Sc284e_mair19112613290_0001-e1574770953982.jpg
END:VEVENT
BEGIN:VEVENT
DTSTART;TZID=Europe/Helsinki:20191216T090000
DTEND;TZID=Europe/Helsinki:20191220T170000
DTSTAMP:20260425T162000
CREATED:20191211T105119Z
LAST-MODIFIED:20191211T105430Z
UID:3644-1576486800-1576861200@stehelenesurisere.fr
SUMMARY:INFO ENEDIS : coupure de courant - pour travaux 365 Chemin de la centrale
DESCRIPTION:information ENEDIS
URL:https://stehelenesurisere.fr/agenda/coupure-de-courant-365-chemin-de-la-centrale/
ATTACH;FMTTYPE=image/jpeg:https://stehelenesurisere.fr/wp-content/uploads/2019/12/info-ENEDIS-e1576061642107.jpg
END:VEVENT
END:VCALENDAR